BEGIN:VCALENDAR
VERSION:2.0
BEGIN:VEVENT
UID:ics69ed0fff9d126
DTSTAMP:20260425T190327Z
LOCATION:
DESCRIPTION:
URL:https://www.klima-erden.de/aktuell/klima-erden-wir-sind-dabei-teckeltied-infostand-mitmachangebot/
SUMMARY:Klima - Kompost - Klatschmohn
DTSTART:20231001T080000Z
DTEND:20231001T150000Z
END:VEVENT
END:VCALENDAR
