BEGIN:VCALENDAR
VERSION:2.0
BEGIN:VEVENT
UID:ics69ed13450054b
DTSTAMP:20260425T191725Z
LOCATION:Online-Seminar für alle Geschlechter
DESCRIPTION:
URL:https://www.klima-erden.de/aktuell/humus/
SUMMARY:Humus
DTSTART:20210817T150000Z
DTEND:20210817T163000Z
END:VEVENT
END:VCALENDAR
