BEGIN:VCALENDAR
VERSION:2.0
BEGIN:VEVENT
UID:ics69ed14c963d52
DTSTAMP:20260425T192353Z
LOCATION:Onlineveranstaltung - Für alle
DESCRIPTION:
URL:https://www.klima-erden.de/aktuell/humanity-humus-universe-cosmology-for-a-changing-climate-1/
SUMMARY:Humanity\, Humus\, Universe – Cosmology for a Changing Climate
DTSTART:20220607T170000Z
DTEND:20220607T183000Z
END:VEVENT
END:VCALENDAR
