BEGIN:VCALENDAR
VERSION:2.0
BEGIN:VEVENT
UID:ics69ed10bdbbd40
DTSTAMP:20260425T190637Z
LOCATION:Online-Vortrag mit anschließender Diskussion
DESCRIPTION:
URL:https://www.klima-erden.de/aktuell/gott-will-die-zerstoerung-nicht-befreiungstheologische-gedanken-inmitten-der-klimakrise-1/
SUMMARY:Gott will die Zerstörung nicht – Befreiungstheologische Gedanken inmitten der Klimakrise
DTSTART:20211116T160000Z
DTEND:20211116T173000Z
END:VEVENT
END:VCALENDAR
