BEGIN:VCALENDAR
VERSION:2.0
BEGIN:VEVENT
UID:ics69ed0fd900b15
DTSTAMP:20260425T190249Z
LOCATION:Friedhof St. Lorenz\, Lübeck
DESCRIPTION:
URL:https://www.klima-erden.de/aktuell/friedhofs-natur/
SUMMARY:Friedhofs-Natur
DTSTART:20240605T120000Z
DTEND:20240605T140000Z
END:VEVENT
END:VCALENDAR
