BEGIN:VCALENDAR
VERSION:2.0
BEGIN:VEVENT
UID:ics69ed1000f008f
DTSTAMP:20260425T190328Z
LOCATION:Friedhof St. Lorenz\, Lübeck
DESCRIPTION:
URL:https://www.klima-erden.de/aktuell/friedhofs-natur-gestalten/
SUMMARY:Friedhofs-Natur gestalten
DTSTART:20240612T120000Z
DTEND:20240612T140000Z
END:VEVENT
END:VCALENDAR
