BEGIN:VCALENDAR
VERSION:2.0
BEGIN:VEVENT
UID:ics69ed0e347e3c5
DTSTAMP:20260425T185548Z
LOCATION:Hof am Wege\, Liensfeld
DESCRIPTION:
URL:https://www.klima-erden.de/aktuell/frauen-oase-tage/
SUMMARY:Frauen - Oase - Tage
DTSTART:20240827T130000Z
DTEND:20240829T140000Z
END:VEVENT
END:VCALENDAR
