BEGIN:VCALENDAR
VERSION:2.0
BEGIN:VEVENT
UID:ics69ed0e1a46542
DTSTAMP:20260425T185522Z
LOCATION:Brüel\, Naturgarten
DESCRIPTION:
URL:https://www.klima-erden.de/aktuell/fiese-wiese/
SUMMARY:Fiese Wiese
DTSTART:20230811T073000Z
DTEND:20230811T093000Z
END:VEVENT
END:VCALENDAR
