BEGIN:VCALENDAR
VERSION:2.0
BEGIN:VEVENT
UID:ics69ed0fb3d2115
DTSTAMP:20260425T190211Z
LOCATION:Gemeindehaus Schönwalde
DESCRIPTION:
URL:https://www.klima-erden.de/aktuell/faszination-honigbiene/
SUMMARY:Faszination Honigbiene
DTSTART:20240816T160000Z
DTEND:20240816T180000Z
END:VEVENT
END:VCALENDAR
