BEGIN:VCALENDAR
VERSION:2.0
BEGIN:VEVENT
UID:ics69ed146544538
DTSTAMP:20260425T192213Z
LOCATION:Führung - Wildstaudengärtnerei Blütenmeer GmbH in Klappholz
DESCRIPTION:
URL:https://www.klima-erden.de/aktuell/exkursion-zur-wildstaudengaertnerei-der-arche-gaertnerei-bluetenmeer-gmbh/
SUMMARY:Exkursion zur Wildstaudengärtnerei der Arche-Gärtnerei Blütenmeer GmbH
DTSTART:20220609T140000Z
DTEND:20220609T160000Z
END:VEVENT
END:VCALENDAR
