BEGIN:VCALENDAR
VERSION:2.0
BEGIN:VEVENT
UID:ics69ed0fd809047
DTSTAMP:20260425T190248Z
LOCATION:Graswarder\, Heiligenhafen
DESCRIPTION:
URL:https://www.klima-erden.de/aktuell/exkursion-im-naturschutzgebiet-graswarder/
SUMMARY:Exkursion im Naturschutzgebiet Graswarder
DTSTART:20240709T150000Z
DTEND:20240709T170000Z
END:VEVENT
END:VCALENDAR
