BEGIN:VCALENDAR
VERSION:2.0
BEGIN:VEVENT
UID:ics69ed1ff88c5d2
DTSTAMP:20260425T201136Z
LOCATION:Riesewohld
DESCRIPTION:
URL:https://www.klima-erden.de/aktuell/einssein-mit-der-schoepfung/
SUMMARY:Einssein mit der Schöpfung
DTSTART:20240614T140000Z
DTEND:20240614T160000Z
END:VEVENT
END:VCALENDAR
