BEGIN:VCALENDAR
VERSION:2.0
BEGIN:VEVENT
UID:ics69ed0fc7e45eb
DTSTAMP:20260425T190231Z
LOCATION:Online für alle Geschlechter
DESCRIPTION:
URL:https://www.klima-erden.de/aktuell/einen-apfelbaum-pflanzen/
SUMMARY:Einen Apfelbaum pflanzen…!
DTSTART:20221103T150000Z
DTEND:20221103T163000Z
END:VEVENT
END:VCALENDAR
