BEGIN:VCALENDAR
VERSION:2.0
BEGIN:VEVENT
UID:ics69ed0f1a019f0
DTSTAMP:20260425T185938Z
LOCATION:Klostergelände Bad Doberan
DESCRIPTION:
URL:https://www.klima-erden.de/aktuell/doberanter-klimatag-klimabewusst-erden-ist-mit-dabei/
SUMMARY:Doberaner Klimatag - Klimabewusstsein erden ist mit dabei!
DTSTART:20230902T090000Z
DTEND:20230902T150000Z
END:VEVENT
END:VCALENDAR
