BEGIN:VCALENDAR
VERSION:2.0
BEGIN:VEVENT
UID:ics69ed10b8dcf4c
DTSTAMP:20260425T190632Z
LOCATION: Elbinsel Wilhelmsburg
DESCRIPTION:
URL:https://www.klima-erden.de/aktuell/die-vielfalt-der-pflanzen-und-tiere-entdecken/
SUMMARY:Die Vielfalt der Pflanzen und Tiere entdecken
DTSTART:20240608T130000Z
DTEND:20240608T160000Z
END:VEVENT
END:VCALENDAR
