BEGIN:VCALENDAR
VERSION:2.0
BEGIN:VEVENT
UID:ics69ed10acd9b2d
DTSTAMP:20260425T190620Z
LOCATION:Online - Für Frauen
DESCRIPTION:
URL:https://www.klima-erden.de/aktuell/denkwerkstatt-natur-1-1/
SUMMARY:Feministisch-ethische Denkwerkstatt
DTSTART:20220122T080000Z
DTEND:20220122T140000Z
END:VEVENT
END:VCALENDAR
