BEGIN:VCALENDAR
VERSION:2.0
BEGIN:VEVENT
UID:ics69ed0fc9b7f1c
DTSTAMP:20260425T190233Z
LOCATION:Neu Kaliß
DESCRIPTION:
URL:https://www.klima-erden.de/aktuell/default-af82c4552fb093648429d3ccf83969d0/
SUMMARY:Wildblumenwiese anlegen
DTSTART:20231021T080000Z
DTEND:20231021T140000Z
END:VEVENT
END:VCALENDAR
