BEGIN:VCALENDAR
VERSION:2.0
BEGIN:VEVENT
UID:ics69ed116083558
DTSTAMP:20260425T190920Z
LOCATION:Onlineseminar füe alle
DESCRIPTION:
URL:https://www.klima-erden.de/aktuell/default-98a17438ce/
SUMMARY:Die Welt des Komposts und  der natürlichen Düngung
DTSTART:20210519T170000Z
DTEND:20210519T183000Z
END:VEVENT
END:VCALENDAR
