BEGIN:VCALENDAR
VERSION:2.0
BEGIN:VEVENT
UID:ics69ed15691eee8
DTSTAMP:20260425T192633Z
LOCATION:Exkursion für alle
DESCRIPTION:
URL:https://www.klima-erden.de/aktuell/default-62100144dd/
SUMMARY:Kohle in der Kiste
DTSTART:20220513T140000Z
DTEND:20220513T160000Z
END:VEVENT
END:VCALENDAR
