BEGIN:VCALENDAR
VERSION:2.0
BEGIN:VEVENT
UID:ics69ed17b51e649
DTSTAMP:20260425T193621Z
LOCATION:Gemeindehaus Neustadt
DESCRIPTION:
URL:https://www.klima-erden.de/aktuell/das-richtige-mass/
SUMMARY:"Das richtige Maß“ Kochen mit geretteten Lebensmitteln
DTSTART:20240223T140000Z
DTEND:20240223T170000Z
END:VEVENT
END:VCALENDAR
