BEGIN:VCALENDAR
VERSION:2.0
BEGIN:VEVENT
UID:ics69ed0fc8bac5a
DTSTAMP:20260425T190232Z
LOCATION:Paul-Gerhardt-Kirche\, Hamburg Altona
DESCRIPTION:
URL:https://www.klima-erden.de/aktuell/das-leben-zieht-so-schnell-ein/
SUMMARY:„Das Leben zieht so schnell ein“
DTSTART:20240309T120000Z
DTEND:20240309T140000Z
END:VEVENT
END:VCALENDAR
