BEGIN:VCALENDAR
VERSION:2.0
BEGIN:VEVENT
UID:ics69e8dd4bd9572
DTSTAMP:20260422T143803Z
LOCATION:ONLINE
DESCRIPTION:
URL:https://www.klima-erden.de/aktuell/das-leben-der-insekten/
SUMMARY:Das Leben der Insekten
DTSTART:20240321T160000Z
DTEND:20240321T173000Z
END:VEVENT
END:VCALENDAR
