BEGIN:VCALENDAR
VERSION:2.0
BEGIN:VEVENT
UID:ics69ed1344e5c07
DTSTAMP:20260425T191724Z
LOCATION:Outdoor-Workshop
DESCRIPTION:
URL:https://www.klima-erden.de/aktuell/brennnessel-workshop/
SUMMARY:Brennnessel-Workshop 
DTSTART:20220912T150000Z
DTEND:20220912T173000Z
END:VEVENT
END:VCALENDAR
