BEGIN:VCALENDAR
VERSION:2.0
BEGIN:VEVENT
UID:ics69ed10bde5ae5
DTSTAMP:20260425T190637Z
LOCATION:Online-Vortrag
DESCRIPTION:
URL:https://www.klima-erden.de/aktuell/boden-klima-nahrung-wie-leben-wir-kuenftig/
SUMMARY:Boden\, Klima\, Nahrung – wie leben wir künftig?
DTSTART:20211002T120000Z
DTEND:20211002T140000Z
END:VEVENT
END:VCALENDAR
