BEGIN:VCALENDAR
VERSION:2.0
BEGIN:VEVENT
UID:ics69ed107564f21
DTSTAMP:20260425T190525Z
LOCATION:Olgashof
DESCRIPTION:
URL:https://www.klima-erden.de/aktuell/bau-einer-mobilen-komposttoilette/
SUMMARY:Bau einer mobilen Komposttoilette 
DTSTART:20240326T110000Z
DTEND:20240329T110000Z
END:VEVENT
END:VCALENDAR
