BEGIN:VCALENDAR
VERSION:2.0
BEGIN:VEVENT
UID:ics69ed10b84fc38
DTSTAMP:20260425T190632Z
LOCATION:Onlineveranstaltung - Für alle
DESCRIPTION:
URL:https://www.klima-erden.de/aktuell/artenvielfalt-und-saatgut-als-besitzrechte-der-pflanzen-1/
SUMMARY:Artenvielfalt und Saatgut als Besitzrechte der Pflanzen
DTSTART:20220322T160000Z
DTEND:20220322T173000Z
END:VEVENT
END:VCALENDAR
