BEGIN:VCALENDAR
VERSION:2.0
BEGIN:VEVENT
UID:ics69ed10ae11d5f
DTSTAMP:20260425T190622Z
LOCATION:Lübz
DESCRIPTION:
URL:https://www.klima-erden.de/aktuell/artenvielfalt-mit-allen-sinnen-erleben/
SUMMARY:Artenvielfalt mit allen Sinnen erleben
DTSTART:20250716T130000Z
DTEND:20250716T150000Z
END:VEVENT
END:VCALENDAR
