BEGIN:VCALENDAR
VERSION:2.0
BEGIN:VEVENT
UID:ics69ed10156ace7
DTSTAMP:20260425T190349Z
LOCATION:Stoltenberg
DESCRIPTION:
URL:https://www.klima-erden.de/aktuell/artenvielfalt-im-rosengarten/
SUMMARY:Artenvielfalt im Rosengarten
DTSTART:20240607T130000Z
DTEND:20240607T150000Z
END:VEVENT
END:VCALENDAR
