BEGIN:VCALENDAR
VERSION:2.0
BEGIN:VEVENT
UID:ics69e9dd2f7f80a
DTSTAMP:20260423T084951Z
LOCATION:ONLINE FÜR ALLE
DESCRIPTION:
URL:https://www.klima-erden.de/aktuell/artenvielfalt-im-herzen/
SUMMARY:Artenvielfalt im Herzen
DTSTART:20250212T133000Z
DTEND:20250212T163000Z
END:VEVENT
END:VCALENDAR
