BEGIN:VCALENDAR
VERSION:2.0
BEGIN:VEVENT
UID:ics69ed179b4ad70
DTSTAMP:20260425T193555Z
LOCATION:18439 Stralsund
DESCRIPTION:
URL:https://www.klima-erden.de/aktuell/anzuchttoepfe-im-upcycling-prozess-1/
SUMMARY:Anzuchttöpfe im Upcycling Prozess
DTSTART:20240223T120000Z
DTEND:20240223T150000Z
END:VEVENT
END:VCALENDAR
