BEGIN:VCALENDAR
VERSION:2.0
BEGIN:VEVENT
UID:ics69ed101b16aa1
DTSTAMP:20260425T190355Z
LOCATION:Onlineveranstaltung - Für alle
DESCRIPTION:
URL:https://www.klima-erden.de/aktuell/alles-ist-miteinander-verbunden-1/
SUMMARY:Alles ist miteinander verbunden
DTSTART:20220125T153000Z
DTEND:20220125T173000Z
END:VEVENT
END:VCALENDAR
