BEGIN:VCALENDAR
VERSION:2.0
BEGIN:VEVENT
UID:ics69ed183e82326
DTSTAMP:20260425T193838Z
LOCATION:Kiel
DESCRIPTION:
URL:https://www.klima-erden.de/aktuell/alles-hast-du-in-weisheit-gemacht/
SUMMARY:Alles hast du in Weisheit gemacht
DTSTART:20231104T110000Z
DTEND:20231104T130000Z
END:VEVENT
END:VCALENDAR
