BEGIN:VCALENDAR
VERSION:2.0
BEGIN:VEVENT
UID:ics69ed101a4236a
DTSTAMP:20260425T190354Z
LOCATION:Online - für Alle
DESCRIPTION:
URL:https://www.klima-erden.de/aktuell/alles-fuehlt-eine-neue-sicht-des-lebendigen-1/
SUMMARY:Alles fühlt - Eine neue Sicht des Lebendigen
DTSTART:20221026T170000Z
DTEND:20221026T183000Z
END:VEVENT
END:VCALENDAR
